Workbook

Sheet Exam
A1: 考場 | B1: 時間 | C1: 45813 | E1: 45814 | G1: 45817 | I1: 45818 | K1: 45819 | M1: 45820 | O1: 45821 | Q1: 45824 | S1: 45825 | U1: 45826
C2: (四) | E2: (五) | G2: (一) | I2: (二) | K2: (三) | M2: (四) | O2: (五) | Q2: (一) | S2: (二) | U2: (三)
A3: HALL | B3: 第 | C3: S5 | E3: S4 | G3: S5 | I3: S4 | K3: S5 | M3: S5 | O3: S3 | Q3: S4 | S3: S2 | U3: S4
B4: 一 | C4: 中國語文 | E4: English Language– | G4: 物理 | I4: 資通/地理 | K4: English Language – | M4: 地理/資通 8:30–10:30 | O4: English Language– | Q4: 中國語文 | S4: English Language– | U4: 物理/經濟
B5: 節 | C5: 卷二 寫作 | E5: Paper 3 | G5: 8:30–10:30 | I5: 8:30–10:00 | K5: Paper 3 | M5: (120分鐘) | O5: Listening | Q5: 卷一 閱讀 | S5: Listening | U5: 8:30–10:00
C6: 8:30–10:45 | E6: (Listening & Integrated Skills) | G6: (120分鐘) | I6: (90分鐘) | K6: (Listening & Integrated Skills) | O6: 8:30–9:30 | Q6: 8:30–10:00 | S6: 8:30–9:30 | U6: (90分鐘)
C7: (135分鐘) | E7: 8:30–10:30 | M7: 生物/歷史 | O7: (60分鐘) | Q7: (90分鐘) | S7: (60分鐘)
E8: (120分鐘) | G8: 中史 | I8: 生物/歷史 | K8: 8:30–10:30 | M8: 8:30–11:00 | U8: 旅款
C9: 陳容芳 | D9: 135 | G9: 8:30–10:45 | I9: 8:30–10:15 | K9: (120分鐘) | M9: (150分鐘) | O9: 陳銘雄 | P9: 60 | Q9: 何濤 | R9: 90 | S9: 陳銘雄 | T9: 60 | U9: 8:30–10:10
C10: 8:30–10:45 | E10: 陳銘雄 | F10: 120 | G10: (135分鐘) | I10: (105分鐘) | O10: Rabiaa | P10: 60 | Q10: 鄭燕雯 | R10: 90 | S10: Samita | T10: 60 | U10: (100分鐘)
C11: (135) | E11: 白溪溪 | F11: 120 | K11: 何濤 | L11: 120 | O11: 謝志安 | P11: 60 | Q11: 彭穎芯 | R11: 90 | S11: 謝志安 | T11: 60
E12: 林國基 | F12: 120 | G12: 經濟 | K12: 蕭海量 | L12: 120 | M12: 周玉玲 | N12: 150 | U12: 化學
G13: 8:30–10:50 | I13: 黃偉業 | J13: 105 | K13: 林國基 | L13: 120 | M13: 8:30–11:00 | U13: 8:30–10:15
C14: 蔡汶俊 | D14: 75 | G14: (140分鐘) | I14: 楊玉海 | J14: 105 | M14: (150) | U14: (105)
C15: 8:30–9:45 | G15: 化學 | I15: 邱嘉兒 | J15: 105
C16: (75) | G16: 8:30–11:00 | M16: 周頌賢 | N16: 75 | U16: 中史
G17: (150分鐘) | M17: 8:30–9:45 | U17: 8:30–10:30
C18: 崔小婷 | D18: 60 | M18: (75) | U18: (120)
C19: 9:45–10:45 | G19: 旅款 (卷一)
C20: (60) | G20: 8:30–10:00 | M20: 劉明鑫 | N20: 75 | U20: 黃偉業 | V20: 120
G21: (90分鐘) | M21: 9:45–11:00 | U21: 8:30–10:30
C22: 蘇嘉寶 | D22: 75 | G22: 旅款 (卷二) | M22: (75) | U22: (120)
C23: 8:30–9:45 | G23: 10:10–11:25
C24: (75) | G24: (75分鐘) | M24: 邱嘉兒 | N24: 75 | U24: 何宗維 | V24: 60
M25: 8:30–9:45 | U25: 8:30–9:30
C26: 邱嘉兒 | D26: 60 | M26: (75) | U26: (60)
C27: 9:45–10:45 | G27: 周玉玲 | H27: 75
C28: (60) | G28: 8:30–11:25 | M28: 謝志安 | N28: 75 | U28: 張浩華 | V28: 75
G29: (75) | M29: 9:45–11:00 | U29: 9:30–10:30
M30: (75) | U30: (75)
G32: 廖綺雲 | H32: 90 | U32: 彭穎芯 | V32: 60
G33: 8:30–10:00 | U33: 8:30–9:30
G34: (90) | U34: (60)
G36: 袁智立 | H36: 85 | U36: 蘇嘉寶 | V36: 75
G37: 10:00–11:25 | U37: 9:30–10:30
G38: (85) | U38: (75)
G40: 彭穎芯 | H40: 90
G41: 8:30–10:00
G42: (90)
G44: 蘇嘉寶 | H44: 85
G45: 10:00–11:25
G46: (85)
S48: S1
S49: English Language–
S50: 10:00–11:00
S51: (60分鐘)
S53: 黃光泉 | T53: 60
S54: Nicholas | T54: 60
S55: 謝志安 | T55: 60
A57: 考場 | B57: 時間 | C57: 5/6/2025 | E57: 45814 | G57: 45817 | I57: 45818 | K57: 45819 | M57: 45820 | O57: 45821 | Q57: 45824 | S57: 45825 | U57: 45826
C58: (四) | E58: (五) | G58: (一) | I58: (二) | K58: (三) | M58: (四) | O58: (五) | Q58: (一) | S58: (二) | U58: (三)
A59: Special Room | B59: 第 | C59: S1/S2/S3 | E59: S1/S2 | G59: S1/S2 | I59: S1/S2 | K59: S1/S2/S3 | M59: S1/S2/S3 | O59: S1/S2 | Q59: S1 | S59: S1/S3 | U59: S1
A60: (Rm102) | B60: 一 | C60: 8:30-9:45(75) | E60: 8:30-10:04(94) | G60: 8:30-10:23(113) | I60: 8:30-9:45(75) | K60: 8:30-9:45(75) | M60: 8:30-10:04(94) | O60: 8:30-9:45(75) | Q60: 8:30-9:45(75) | S60: 8:30-9:45(75) | U60: 8:30-9:27(57)
A61: S1-S3 | B61: 節 | C61: 黃光泉 | D61: 75 | K61: 黃光泉 | L61: 75 | M61: 黃敏詩 | N61: 94 | O61: 許皓琳 | P61: 75 | Q61: S2 | S61: 郭世傑 | T61: 75
E62: S3 | G62: S3 | I62: S3 | Q62: 8:30-9:27(57) | U62: S2/S3
E63: 8:30-9:45(75) | G63: 8:30-9:45(75) | I63: 8:30-10:23(113) | Q63: S3 | U63: 8:30-9:45(75)
E64: 羅雪琴 | F64: 75 | G64: 許皓琳 | H64: 75 | I64: 羅雪琴 | J64: 113 | Q64: 8:30-10:04(94) | U64: 黃光泉 | V64: 75
Q65: 黃敏詩 | R65: 94
B67: 第 | C67: S1/S3 | E67: S1/S2 | G67: S3 | K67: S2 | M67: S3 | Q67: S2 | S67: S3
B68: 二 | C68: 10:00-11:15(75) | E68: 10:15-11:30(75) | G68: 10:00-11:15(75) | K68: 10:00-11:15(75) | M68: 10:15-11:30(75) | Q68: 9:45-11:00(75) | S68: 10:00-11:15(75)
B69: 節 | C69: 羅雪琴 | D69: 75 | E69: 黃敏詩 | F69: 75 | G69: 郭世傑 | H69: 75 | K69: S3 | M69: 白溪溪 | N69: 75 | Q69: 卜希彤 | R69: 75 | S69: 黃敏詩 | T69: 75
K70: 10:00-10:57(57)
K71: 許皓琳
A72: Special Room | B72: 第 | C72: S4 | E72: S5 | G72: S4 | I72: S4 | K72: S4 | M72: S4 | O72: S4/S5 | Q72: S4 | S72: S5 | U72: S4
A73: (Rm103) | B73: 一 | C73: 8:30-10:23(113) | E73: 8:30-10:42(132) | G73: 8:30-10:10(100) | I73: 8:30-10:42(132) | K73: 8:30-11:19(169) | M73: 8:30-10:23(113) | O73: 8:30-11:00(150) | Q73: 8:30-10:23(113) | S73: 8:30-10:23(113) | U73: 8:30-11:00(150)
A74: S4-S5 | B74: 節
C75: S5 | E75: 蔡汶俊 | F75: 57 | G75: S5 | I75: S5 | K75: 郭世傑 | L75: 90 | M75: S5 | O75: 羅雪琴 | P75: 75 | Q75: S5 | S75: 蔡汶俊 | T75: 113 | U75: 黃敏詩 | V75: 75
C76: 8:30-11:19(169) | E76: 8:30-9:27(57) | G76: 8:30-12:04(214) | I76: 8:30-10:23(113) | K76: 8:30-10:00(90) | M76: 8:30-11:38(188) | O76: 8:30-9:45(75) | Q76: 8:30-11:00(150) | U76: 8:30-9:45(75)
E77: 鄭燕雯 | F77: 75 | K77: 卜希彤 | L77: 79 | O77: 崔小婷 | P77: 75 | U77: 曾俊威 | V77: 75
C78: 許皓琳 | D78: 90 | E78: 9:27-10:42(75) | G78: 卜希彤 | H78: 105 | I78: 黃敏詩 | J78: 75 | K78: 10:00-11:19(79) | M78: 黎式然 | N78: 90 | O78: 9:45-11:00(75) | Q78: 許皓琳 | R78: 75 | U78: 9:45-11:00(75)
C79: 8:30-10:00(90) | G79: 8:30-10:15(105) | I79: 8:30-9:45(75) | M79: 8:30-10:00(90) | Q79: 8:30-9:45(75)
C80: 黃敏詩 | D80: 79 | G80: 張子佟 | H80: 90 | I80: 卜希彤 | J80: 57 | M80: 卜希彤 | N80: 98 | Q80: 梁業燊 | R80: 75
C81: 10:00-11:19(79) | G81: 10:15-11:45(90) | I81: 9:45-10:42(57) | M81: 10:00-11:38(98) | Q81: 9:45-11:00(75)
G82: 卜希彤 | H82: 19
G83: 11:45-12:04(19)
B84: 第 | E84: S5 | M84: S4
B85: 二 | E85: 10:45-12:19(94) | M85: 10:30-11:45(75)
B86: 節 | E86: 卜希彤 | F86: 94 | M86: 卜希彤 | N86: 75
A88: 考場 | B88: 時間 | C88: 5/6/2025 | E88: 45814 | G88: 45817 | I88: 45818 | K88: 45819 | M88: 45820 | O88: 45821 | Q88: 45824 | S88: 45825 | U88: 45826
C89: (四) | E89: (五) | G89: (一) | I89: (二) | K89: (三) | M89: (四) | O89: (五) | Q89: (一) | S89: (二) | U89: (三)
A90: 104 | B90: 第一節 | C90: 周頌賢 | E90: Ilyas | G90: S.1 NC | I90: 胡智霖 | K90: 蘇煒晴 | M90: S.1 NC | O90: 周頌賢 | Q90: 謝信恆 | S90: 李根源 | U90: 梁耀燦
A91: 1A | C91: 8:30-9:30(60) | E91: 8:30-9:45(75) | G91: 張子佟 | I91: 8:30-9:30(60) | K91: 8:30-9:30(60) | M91: 張子佟 | O91: 8:30-9:30(60) | Q91: 8:30-9:30(60) | S91: 8:30-9:30(60) | U91: 8:30-9:30(60)
A92: (1-20)NC | G92: 8:30-9:45(75) | M92: 8:30-9:45(75)
A94: 2C(1-19) | B94: 第二節 | E94: 郭世傑 | K94: 蘇煒晴 | Q94: 簡嘉慧
E95: 10:15-11:15(60) | K95: 10:00-11:00(60) | Q95: 9:45-10:45(60)
A96: 105 | B96: 第一節 | C96: 陳香瑩 | E96: 黃嘉榮 | G96: All 2C蘇煒晴 | I96: 梁耀燦 | K96: 謝信恆 | M96: All 2C郭世傑 | O96: 劉明鑫 | Q96: 郭世傑 | S96: 謝信恆 | U96: 簡嘉慧
A97: 1A | C97: 8:30-9:30(60) | E97: 8:30-9:45(75) | G97: 8:30-10:00(90) | I97: 8:30-9:30(60) | K97: 8:30-9:30(60) | M97: 8:30-9:45(75) | O97: 8:30-9:30(60) | Q97: 8:30-9:30(60) | S97: 8:30-9:30(60) | U97: 8:30-9:30(60)
A98: (21-39)8NC
A100: 2C(20-37) | B100: 第二節 | C100: 1A Local | E100: 黃嘉榮 | K100: 謝信恆 | Q100: 林家歡
C101: 陳香瑩 | E101: 10:15-11:15(60) | K101: 10:00-11:00(60) | Q101: 9:45-10:45(60)
C102: 10:00-11:00(60)
A103: 106 | B103: 第一節 | C103: 袁智立 | E103: 何宗維 | G103: S.2 NC | I103: 黃佩施 | K103: Ilyas | M103: S.2 NC | O103: 鄭燕雯 | Q103: 陳子藝 | S103: 陳子藝 | U103: 謝信恆
A104: 1B(1-16) | C104: 8:30-9:30(60) | E104: 8:30-9:45(75) | G104: 倫志杰 | I104: 8:30-9:30(60) | K104: 8:30-9:30(60) | M104: 倫志杰 | O104: 8:30-9:30(60) | Q104: 8:30-9:30(60) | S104: 8:30-9:30(60) | U104: 8:30-9:30(60)
A105: 2A(1-18)NC | G105: 8:30-9:45(75) | M105: 8:30-9:45(75)
B106: 第二節 | C106: 袁智立 | E106: 廖綺雲 | K106: Ilyas
C107: 10:00-11:00(60) | E107: 10:15-11:15(60) | K107: 10:00-11:00(60)
A108: 107 | B108: 第一節 | C108: 梁業燊 | E108: 陳子藝 | G108: All 1B張浩華 | I108: 鄭燕雯 | K108: 陳子藝 | M108: All 1B陳容芳 | N108: 75 | O108: 楊玉海 | Q108: 崔小婷 | S108: 周頌賢 | U108: 劉明鑫
A109: 1B(17-32) | C109: 8:30-9:30(60) | E109: 8:30-9:45(75) | G109: 8:30-10:00(90) | I109: 8:30-9:30(60) | K109: 8:30-9:30(60) | M109: 8:30-9:45(75) | O109: 8:30-9:30(60) | Q109: 8:30-9:30(60) | S109: 8:30-9:30(60) | U109: 8:30-9:30(60)
A111: 2A
A112: (19-36)6NC | B112: 第二節 | C112: 梁業燊 | E112: 蔡汶俊 | K112: 楊玉海 | Q112: 2A Local
...

Sheet Stat
A1: Name | B1: 欄1 | C1: 5/6/2025 | D1: 欄2 | E1: 6/6/2025 | F1: 欄3 | G1: 9/6/2025 | H1: 欄4 | I1: 10/6/2025 | J1: 欄5 | K1: 11/6/2025 | L1: 欄6 | M1: 12/6/2025 | N1: 欄7 | O1: 13/6/2025 | P1: 欄8 | Q1: 16/6/2025 | R1: 欄9 | S1: 17/6/2025 | T1: 欄10 | U1: 18/6/2025 | V1: Total
A2: 何濤 | C2: =SUMIF(Exam!C:C,"*"&Stat!$A2&"*",Exam!D:D) -> 0 | E2: =SUMIF(Exam!E:E,"*"&Stat!$A2&"*",Exam!F:F) -> 0 | G2: =SUMIF(Exam!G:G,"*"&Stat!$A2&"*",Exam!H:H) -> 0 | I2: =SUMIF(Exam!I:I,"*"&Stat!$A2&"*",Exam!J:J) -> 0 | K2: =SUMIF(Exam!K:K,"*"&Stat!$A2&"*",Exam!L:L) -> 120 | M2: =SUMIF(Exam!M:M,"*"&Stat!$A2&"*",Exam!N:N) -> 0 | O2: =SUMIF(Exam!O:O,"*"&Stat!$A2&"*",Exam!P:P) -> 0 | Q2: =SUMIF(Exam!Q:Q,"*"&Stat!$A2&"*",Exam!R:R) -> 90 | S2: =SUMIF(Exam!S:S,"*"&Stat!$A2&"*",Exam!T:T) -> 0 | U2: =SUMIF(Exam!U:U,"*"&Stat!$A2&"*",Exam!V:V) -> 0 | V2: =SUM(C2:U2) -> 210
A3: 陳銘雄 | C3: =SUMIF(Exam!C:C,"*"&Stat!$A3&"*",Exam!D:D) -> 0 | E3: =SUMIF(Exam!E:E,"*"&Stat!$A3&"*",Exam!F:F) -> 120 | G3: =SUMIF(Exam!G:G,"*"&Stat!$A3&"*",Exam!H:H) -> 0 | I3: =SUMIF(Exam!I:I,"*"&Stat!$A3&"*",Exam!J:J) -> 0 | K3: =SUMIF(Exam!K:K,"*"&Stat!$A3&"*",Exam!L:L) -> 0 | M3: =SUMIF(Exam!M:M,"*"&Stat!$A3&"*",Exam!N:N) -> 0 | O3: =SUMIF(Exam!O:O,"*"&Stat!$A3&"*",Exam!P:P) -> 60 | Q3: =SUMIF(Exam!Q:Q,"*"&Stat!$A3&"*",Exam!R:R) -> 0 | S3: =SUMIF(Exam!S:S,"*"&Stat!$A3&"*",Exam!T:T) -> 60 | U3: =SUMIF(Exam!U:U,"*"&Stat!$A3&"*",Exam!V:V) -> 0 | V3: =SUM(C3:U3) -> 240
A4: 周玉玲 | C4: =SUMIF(Exam!C:C,"*"&Stat!$A4&"*",Exam!D:D) -> 0 | E4: =SUMIF(Exam!E:E,"*"&Stat!$A4&"*",Exam!F:F) -> 0 | G4: =SUMIF(Exam!G:G,"*"&Stat!$A4&"*",Exam!H:H) -> 75 | I4: =SUMIF(Exam!I:I,"*"&Stat!$A4&"*",Exam!J:J) -> 0 | K4: =SUMIF(Exam!K:K,"*"&Stat!$A4&"*",Exam!L:L) -> 0 | M4: =SUMIF(Exam!M:M,"*"&Stat!$A4&"*",Exam!N:N) -> 150 | O4: =SUMIF(Exam!O:O,"*"&Stat!$A4&"*",Exam!P:P) -> 0 | Q4: =SUMIF(Exam!Q:Q,"*"&Stat!$A4&"*",Exam!R:R) -> 0 | S4: =SUMIF(Exam!S:S,"*"&Stat!$A4&"*",Exam!T:T) -> 0 | U4: =SUMIF(Exam!U:U,"*"&Stat!$A4&"*",Exam!V:V) -> 0 | V4: =SUM(C4:U4) -> 225
A5: 陳容芳 | C5: =SUMIF(Exam!C:C,"*"&Stat!$A5&"*",Exam!D:D) -> 135 | E5: =SUMIF(Exam!E:E,"*"&Stat!$A5&"*",Exam!F:F) -> 0 | G5: =SUMIF(Exam!G:G,"*"&Stat!$A5&"*",Exam!H:H) -> 0 | I5: =SUMIF(Exam!I:I,"*"&Stat!$A5&"*",Exam!J:J) -> 0 | K5: =SUMIF(Exam!K:K,"*"&Stat!$A5&"*",Exam!L:L) -> 0 | M5: =SUMIF(Exam!M:M,"*"&Stat!$A5&"*",Exam!N:N) -> 75 | O5: =SUMIF(Exam!O:O,"*"&Stat!$A5&"*",Exam!P:P) -> 0 | Q5: =SUMIF(Exam!Q:Q,"*"&Stat!$A5&"*",Exam!R:R) -> 0 | S5: =SUMIF(Exam!S:S,"*"&Stat!$A5&"*",Exam!T:T) -> 0 | U5: =SUMIF(Exam!U:U,"*"&Stat!$A5&"*",Exam!V:V) -> 0 | V5: =SUM(C5:U5) -> 210
A6: 黃光泉 | C6: =SUMIF(Exam!C:C,"*"&Stat!$A6&"*",Exam!D:D) -> 75 | E6: =SUMIF(Exam!E:E,"*"&Stat!$A6&"*",Exam!F:F) -> 0 | G6: =SUMIF(Exam!G:G,"*"&Stat!$A6&"*",Exam!H:H) -> 0 | I6: =SUMIF(Exam!I:I,"*"&Stat!$A6&"*",Exam!J:J) -> 0 | K6: =SUMIF(Exam!K:K,"*"&Stat!$A6&"*",Exam!L:L) -> 75 | M6: =SUMIF(Exam!M:M,"*"&Stat!$A6&"*",Exam!N:N) -> 0 | O6: =SUMIF(Exam!O:O,"*"&Stat!$A6&"*",Exam!P:P) -> 0 | Q6: =SUMIF(Exam!Q:Q,"*"&Stat!$A6&"*",Exam!R:R) -> 0 | S6: =SUMIF(Exam!S:S,"*"&Stat!$A6&"*",Exam!T:T) -> 60 | U6: =SUMIF(Exam!U:U,"*"&Stat!$A6&"*",Exam!V:V) -> 75 | V6: =SUM(C6:U6) -> 285
A7: 黃偉業 | C7: =SUMIF(Exam!C:C,"*"&Stat!$A7&"*",Exam!D:D) -> 0 | E7: =SUMIF(Exam!E:E,"*"&Stat!$A7&"*",Exam!F:F) -> 0 | G7: =SUMIF(Exam!G:G,"*"&Stat!$A7&"*",Exam!H:H) -> 0 | I7: =SUMIF(Exam!I:I,"*"&Stat!$A7&"*",Exam!J:J) -> 105 | K7: =SUMIF(Exam!K:K,"*"&Stat!$A7&"*",Exam!L:L) -> 0 | M7: =SUMIF(Exam!M:M,"*"&Stat!$A7&"*",Exam!N:N) -> 0 | O7: =SUMIF(Exam!O:O,"*"&Stat!$A7&"*",Exam!P:P) -> 0 | Q7: =SUMIF(Exam!Q:Q,"*"&Stat!$A7&"*",Exam!R:R) -> 0 | S7: =SUMIF(Exam!S:S,"*"&Stat!$A7&"*",Exam!T:T) -> 0 | U7: =SUMIF(Exam!U:U,"*"&Stat!$A7&"*",Exam!V:V) -> 120 | V7: =SUM(C7:U7) -> 225
A8: 白溪溪 | C8: =SUMIF(Exam!C:C,"*"&Stat!$A8&"*",Exam!D:D) -> 0 | E8: =SUMIF(Exam!E:E,"*"&Stat!$A8&"*",Exam!F:F) -> 120 | G8: =SUMIF(Exam!G:G,"*"&Stat!$A8&"*",Exam!H:H) -> 0 | I8: =SUMIF(Exam!I:I,"*"&Stat!$A8&"*",Exam!J:J) -> 0 | K8: =SUMIF(Exam!K:K,"*"&Stat!$A8&"*",Exam!L:L) -> 0 | M8: =SUMIF(Exam!M:M,"*"&Stat!$A8&"*",Exam!N:N) -> 75 | O8: =SUMIF(Exam!O:O,"*"&Stat!$A8&"*",Exam!P:P) -> 0 | Q8: =SUMIF(Exam!Q:Q,"*"&Stat!$A8&"*",Exam!R:R) -> 0 | S8: =SUMIF(Exam!S:S,"*"&Stat!$A8&"*",Exam!T:T) -> 0 | U8: =SUMIF(Exam!U:U,"*"&Stat!$A8&"*",Exam!V:V) -> 0 | V8: =SUM(C8:U8) -> 195
A9: 陳香瑩 | C9: =SUMIF(Exam!C:C,"*"&Stat!$A9&"*",Exam!D:D) -> 0 | E9: =SUMIF(Exam!E:E,"*"&Stat!$A9&"*",Exam!F:F) -> 0 | G9: =SUMIF(Exam!G:G,"*"&Stat!$A9&"*",Exam!H:H) -> 0 | I9: =SUMIF(Exam!I:I,"*"&Stat!$A9&"*",Exam!J:J) -> 0 | K9: =SUMIF(Exam!K:K,"*"&Stat!$A9&"*",Exam!L:L) -> 0 | M9: =SUMIF(Exam!M:M,"*"&Stat!$A9&"*",Exam!N:N) -> 0 | O9: =SUMIF(Exam!O:O,"*"&Stat!$A9&"*",Exam!P:P) -> 0 | Q9: =SUMIF(Exam!Q:Q,"*"&Stat!$A9&"*",Exam!R:R) -> 0 | S9: =SUMIF(Exam!S:S,"*"&Stat!$A9&"*",Exam!T:T) -> 0 | U9: =SUMIF(Exam!U:U,"*"&Stat!$A9&"*",Exam!V:V) -> 0 | V9: =SUM(C9:U9) -> 0
A10: 陳子藝 | C10: =SUMIF(Exam!C:C,"*"&Stat!$A10&"*",Exam!D:D) -> 0 | E10: =SUMIF(Exam!E:E,"*"&Stat!$A10&"*",Exam!F:F) -> 0 | G10: =SUMIF(Exam!G:G,"*"&Stat!$A10&"*",Exam!H:H) -> 0 | I10: =SUMIF(Exam!I:I,"*"&Stat!$A10&"*",Exam!J:J) -> 0 | K10: =SUMIF(Exam!K:K,"*"&Stat!$A10&"*",Exam!L:L) -> 0 | M10: =SUMIF(Exam!M:M,"*"&Stat!$A10&"*",Exam!N:N) -> 0 | O10: =SUMIF(Exam!O:O,"*"&Stat!$A10&"*",Exam!P:P) -> 0 | Q10: =SUMIF(Exam!Q:Q,"*"&Stat!$A10&"*",Exam!R:R) -> 0 | S10: =SUMIF(Exam!S:S,"*"&Stat!$A10&"*",Exam!T:T) -> 0 | U10: =SUMIF(Exam!U:U,"*"&Stat!$A10&"*",Exam!V:V) -> 0 | V10: =SUM(C10:U10) -> 0
A11: 鄭燕雯 | C11: =SUMIF(Exam!C:C,"*"&Stat!$A11&"*",Exam!D:D) -> 0 | E11: =SUMIF(Exam!E:E,"*"&Stat!$A11&"*",Exam!F:F) -> 75 | G11: =SUMIF(Exam!G:G,"*"&Stat!$A11&"*",Exam!H:H) -> 0 | I11: =SUMIF(Exam!I:I,"*"&Stat!$A11&"*",Exam!J:J) -> 0 | K11: =SUMIF(Exam!K:K,"*"&Stat!$A11&"*",Exam!L:L) -> 0 | M11: =SUMIF(Exam!M:M,"*"&Stat!$A11&"*",Exam!N:N) -> 0 | O11: =SUMIF(Exam!O:O,"*"&Stat!$A11&"*",Exam!P:P) -> 0 | Q11: =SUMIF(Exam!Q:Q,"*"&Stat!$A11&"*",Exam!R:R) -> 90 | S11: =SUMIF(Exam!S:S,"*"&Stat!$A11&"*",Exam!T:T) -> 0 | U11: =SUMIF(Exam!U:U,"*"&Stat!$A11&"*",Exam!V:V) -> 0 | V11: =SUM(C11:U11) -> 165
A12: 周頌賢 | C12: =SUMIF(Exam!C:C,"*"&Stat!$A12&"*",Exam!D:D) -> 0 | E12: =SUMIF(Exam!E:E,"*"&Stat!$A12&"*",Exam!F:F) -> 0 | G12: =SUMIF(Exam!G:G,"*"&Stat!$A12&"*",Exam!H:H) -> 0 | I12: =SUMIF(Exam!I:I,"*"&Stat!$A12&"*",Exam!J:J) -> 0 | K12: =SUMIF(Exam!K:K,"*"&Stat!$A12&"*",Exam!L:L) -> 0 | M12: =SUMIF(Exam!M:M,"*"&Stat!$A12&"*",Exam!N:N) -> 75 | O12: =SUMIF(Exam!O:O,"*"&Stat!$A12&"*",Exam!P:P) -> 0 | Q12: =SUMIF(Exam!Q:Q,"*"&Stat!$A12&"*",Exam!R:R) -> 0 | S12: =SUMIF(Exam!S:S,"*"&Stat!$A12&"*",Exam!T:T) -> 0 | U12: =SUMIF(Exam!U:U,"*"&Stat!$A12&"*",Exam!V:V) -> 0 | V12: =SUM(C12:U12) -> 75
A13: 張浩華 | C13: =SUMIF(Exam!C:C,"*"&Stat!$A13&"*",Exam!D:D) -> 0 | E13: =SUMIF(Exam!E:E,"*"&Stat!$A13&"*",Exam!F:F) -> 0 | G13: =SUMIF(Exam!G:G,"*"&Stat!$A13&"*",Exam!H:H) -> 0 | I13: =SUMIF(Exam!I:I,"*"&Stat!$A13&"*",Exam!J:J) -> 0 | K13: =SUMIF(Exam!K:K,"*"&Stat!$A13&"*",Exam!L:L) -> 0 | M13: =SUMIF(Exam!M:M,"*"&Stat!$A13&"*",Exam!N:N) -> 0 | O13: =SUMIF(Exam!O:O,"*"&Stat!$A13&"*",Exam!P:P) -> 0 | Q13: =SUMIF(Exam!Q:Q,"*"&Stat!$A13&"*",Exam!R:R) -> 0 | S13: =SUMIF(Exam!S:S,"*"&Stat!$A13&"*",Exam!T:T) -> 0 | U13: =SUMIF(Exam!U:U,"*"&Stat!$A13&"*",Exam!V:V) -> 75 | V13: =SUM(C13:U13) -> 75
... A53: 蘇嘉寶 | C53: =SUMIF(Exam!C:C,"*"&Stat!$A53&"*",Exam!D:D) -> 75 | E53: =SUMIF(Exam!E:E,"*"&Stat!$A53&"*",Exam!F:F) -> 0 | G53: =SUMIF(Exam!G:G,"*"&Stat!$A53&"*",Exam!H:H) -> 85 | I53: =SUMIF(Exam!I:I,"*"&Stat!$A53&"*",Exam!J:J) -> 0 | K53: =SUMIF(Exam!K:K,"*"&Stat!$A53&"*",Exam!L:L) -> 0 | M53: =SUMIF(Exam!M:M,"*"&Stat!$A53&"*",Exam!N:N) -> 0 | O53: =SUMIF(Exam!O:O,"*"&Stat!$A53&"*",Exam!P:P) -> 0 | Q53: =SUMIF(Exam!Q:Q,"*"&Stat!$A53&"*",Exam!R:R) -> 0 | S53: =SUMIF(Exam!S:S,"*"&Stat!$A53&"*",Exam!T:T) -> 0 | U53: =SUMIF(Exam!U:U,"*"&Stat!$A53&"*",Exam!V:V) -> 75 | V53: =SUM(C53:U53) -> 235
